BEGIN:VCALENDAR
VERSION:2.0
PRODID:-//ChamberMaster//Event Calendar 2.0//EN
METHOD:PUBLISH
X-PUBLISHED-TTL:P3D
REFRESH-INTERVAL:P3D
CALSCALE:GREGORIAN
BEGIN:VEVENT
DTSTART:20111020T133000Z
DTEND:20111020T163000Z
X-MICROSOFT-CDO-ALLDAYEVENT:FALSE
SUMMARY:Doing Business In Germany
DESCRIPTION:Germany – it’s the economic engine of the EU\, a manufacturing powerhouse and the world’s fourth-largest economy.  It’s also a great place for Kansas City companies to begin doing business overseas\, or for exporters expand their exports’ reach. Want to know more?  Then join us on Thursday\, October 20th from 8:30 – 11:30 in the Chamber Boardroom as we present Doing Business in Germany.  Representatives of the German-American Chamber of Commerce in Chicago will join with local companies and trade agencies to help you learn the essentials\, with plenty of networking thrown in.  We’ll provide continental breakfast – and did we mention that this event is free and open to the public?   Although this is a free event and open to Members and non-Members alike\, please note that you do need to register to attend.  For more information\, or if you have any issues with the online registration process\, please contact David Albrecht at albrecht@kcchamber.com or (816) 374-5446 or Jacques Lebrument at lebrument@kcchamber.com or (816) 374-5457. Doing Business in Germany is brought to you by the World Trade Center Kansas City\, the German-American Chamber or Commerce in Chicago\, Germany Trade & Invest\, the Kansas City Area Development Council\, Kansas City SmartPort\, the U.S. Commercial Service and the Greater Kansas City Chamber of Commerce.
X-ALT-DESC;FMTTYPE=text/html:<DIV style="FONT-FAMILY: Arial"><P style="MARGIN: 0in 0in 0pt" class=MsoNormal><FONT face=Calibri>Germany – it’s the economic engine of the EU\, a manufacturing powerhouse and the world’s fourth-largest economy.&nbsp\; It’s also a great place for Kansas City companies to begin doing business overseas\, or for exporters expand their exports’ reach.</FONT></P><P style="MARGIN: 0in 0in 0pt" class=MsoNormal><?xml:namespace prefix = o ns = "urn:schemas-microsoft-com:office:office" /><o:p><FONT face=Calibri>&nbsp\;</FONT></o:p></P><P style="MARGIN: 0in 0in 0pt" class=MsoNormal><FONT face=Calibri>Want to know more?&nbsp\; Then join us on Thursday\, October 20<SUP>th</SUP> from 8:30 – 11:30 in the Chamber Boardroom as we present Doing Business in Germany.&nbsp\; Representatives of the German-American Chamber of Commerce in Chicago will join with local companies and trade agencies to help you learn the essentials\, with plenty of networking thrown in.&nbsp\; We’ll provide continental breakfast – and did we mention that this event is free and open to the public?&nbsp\; </FONT></P><P style="MARGIN: 0in 0in 0pt" class=MsoNormal><o:p><FONT face=Calibri>&nbsp\;</FONT></o:p></P><P style="MARGIN: 0in 0in 0pt" class=MsoNormal><FONT face=Calibri>Although this is a free event and open to Members and non-Members alike\, please note that you do need to <STRONG><U>register</U> </STRONG>to attend.&nbsp\;&nbsp\;For more information\, or if you have any issues with the online registration process\, please contact David Albrecht at </FONT><A href="mailto:albrecht@kcchamber.com"><FONT color=#0000ff face=Calibri>albrecht@kcchamber.com</FONT></A><FONT face=Calibri> or (816) 374-5446 or Jacques Lebrument at </FONT><A href="mailto:lebrument@kcchamber.com"><FONT color=#0000ff face=Calibri>lebrument@kcchamber.com</FONT></A><FONT face=Calibri> or (816) 374-5457.</FONT></P><P style="MARGIN: 0in 0in 0pt" class=MsoNormal><FONT face=Calibri></FONT>&nbsp\;</P><P style="MARGIN: 0in 0in 0pt" class=MsoNormal><FONT face=Calibri>Doing Business in Germany is brought to you by the <A dataFld=0:0 href="http://www.kcchamber.com/PROGRAMS-EVENTS/International-Business.aspx">World Trade Center Kansas City</A>\, the <A dataFld=0:0 href="http://www.gaccom.org/en/">German-American Chamber or Commerce in Chicago</A>\, <A dataFld=0:0 href="http://www.gtai.com/web_en/homepage">Germany Trade &amp\; Invest</A>\, the <A dataFld=0:0 href="http://www.thinkkc.com">Kansas City Area Development Council</A>\, <A dataFld=0:0 href="http://www.kcsmartport.com/">Kansas City SmartPort</A>\, the <A href="http://export.gov/missouri/kansascity/">U.S. Commercial Service</A> and the <A dataFld=0:0 href="http://www.kcchamber.com">Greater Kansas City Chamber of Commerce</A>.</FONT></P><P style="MARGIN: 0in 0in 0pt" class=MsoNormal><o:p><FONT face=Calibri>&nbsp\;</FONT></o:p></P></DIV>
LOCATION:Greater Kansas City Chamber of Commerce 30 West Pershing Road Kansas City\, MO 64108
UID:e.3021.2721
SEQUENCE:3
DTSTAMP:20260424T133700Z
URL:http://kansascitymo.chambermaster.com/events/details/doing-business-in-germany-10-20-2011-2721
END:VEVENT

END:VCALENDAR
