BEGIN:VCALENDAR
VERSION:2.0
PRODID:-//ChamberMaster//Event Calendar 2.0//EN
METHOD:PUBLISH
X-PUBLISHED-TTL:P3D
REFRESH-INTERVAL:P3D
CALSCALE:GREGORIAN
BEGIN:VEVENT
DTSTART:20111028T050000Z
DTEND:20111028T050000Z
X-MICROSOFT-CDO-ALLDAYEVENT:FALSE
SUMMARY:Executive Recognition Program\, 10/28/2011
DESCRIPTION:Executive Recognition Program\, 10/28/2011
X-ALT-DESC;FMTTYPE=text/html:Executive Recognition Program\, 10/28/2011
LOCATION:Benton's
UID:e.3021.6357
SEQUENCE:3
DTSTAMP:20260423T234416Z
URL:http://kansascitymo.chambermaster.com/events/details/executive-recognition-program-10-28-2011-10-28-2011-6357
END:VEVENT

END:VCALENDAR
